BEGIN:VCALENDAR
VERSION:2.0
PRODID:stackoverflow.com
CALSCALE:GREGORIAN
METHOD:PUBLISH
BEGIN:VTIMEZONE
TZID:America/Chicago
BEGIN:STANDARD
DTSTART:20071104T020000
TZOFFSETFROM:-0500
TZOFFSETTO:-0600
TZNAME:CST
END:STANDARD
BEGIN:DAYLIGHT
DTSTART:20070311T020000
TZOFFSETFROM:-0600
TZOFFSETTO:-0500
TZNAME:CDT
END:DAYLIGHT
END:VTIMEZONE
BEGIN:VEVENT
DTSTAMP:20260422T071800
UID:world-no-tobacco-day-webinar-hosted-by-the-world-health-organization20260521T110000@structura.com
DTSTART:20260521T110000
DTEND:20260521T120000
SUMMARY:World No Tobacco Day webinar hosted by the World Health Organization
LOCATION:Virtual
DESCRIPTION:Action on Smoking and Health, the African American Tobacco Control Leadership Council, the CDC Foundation, and Truth Initiative host this webinar to amplify the 2026 World No Tobacco Day Theme, &quot;Unmasking the appeal &ndash; countering nicotine and tobacco addiction.&quot;

Kristy Marynak, PhD, MPP, Senior Director for Tobacco Control Initiatives at the CDC Foundation, will discuss the truth about nicotine: what science says&mdash;and what the industry isn&rsquo;t telling you.&nbsp;Dr. Jessica Rath, Senior Vice President at Truth Initiative, will review tobacco industry manipulation tactics both branded and unbranded.&nbsp;And&nbsp;Carol McGruder, Co-Chair of the African American Tobacco Control Leadership Council, will highlight how menthol flavoring is used as an industry tactic.

PRIORITY:3
END:VEVENT
END:VCALENDAR
