BEGIN:VCALENDAR
VERSION:2.0
PRODID:stackoverflow.com
CALSCALE:GREGORIAN
METHOD:PUBLISH
BEGIN:VTIMEZONE
TZID:America/Chicago
BEGIN:STANDARD
DTSTART:20071104T020000
TZOFFSETFROM:-0500
TZOFFSETTO:-0600
TZNAME:CST
END:STANDARD
BEGIN:DAYLIGHT
DTSTART:20070311T020000
TZOFFSETFROM:-0600
TZOFFSETTO:-0500
TZNAME:CDT
END:DAYLIGHT
END:VTIMEZONE
BEGIN:VEVENT
DTSTAMP:20260421T171200
UID:team-science-research-and-practice-40-years-of-progress-what-next20260512T140000@structura.com
DTSTART:20260512T140000
DTEND:20260512T150000
SUMMARY:Team Science Research and Practice: 40 years of Progress & What Next
LOCATION:Virtual
DESCRIPTION:Dr. Eduardo Salas is an internationally recognized expert, researcher, and thought leader in the use of teams. He is a pioneer in the fields of teamwork, team effectiveness, team training and learning, and individual training. He helps organizations on how to foster teamwork, design and implement team training strategies, facilitate training effectiveness, manage decision-making under stress, develop performance measurement tools, and design learning environments. He will share the overarching themes that have emerged from 40+ years as a researcher in these areas.

PRIORITY:3
END:VEVENT
END:VCALENDAR
