BEGIN:VCALENDAR
VERSION:2.0
PRODID:stackoverflow.com
CALSCALE:GREGORIAN
METHOD:PUBLISH
BEGIN:VTIMEZONE
TZID:America/Chicago
BEGIN:STANDARD
DTSTART:20071104T020000
TZOFFSETFROM:-0500
TZOFFSETTO:-0600
TZNAME:CST
END:STANDARD
BEGIN:DAYLIGHT
DTSTART:20070311T020000
TZOFFSETFROM:-0600
TZOFFSETTO:-0500
TZNAME:CDT
END:DAYLIGHT
END:VTIMEZONE
BEGIN:VEVENT
DTSTAMP:20260422T015600
UID:research-grand-rounds-ku-alzheimers-disease-research-center-a-case-study-of-translational-research-impact-direction20231214T120000@structura.com
DTSTART:20231214T120000
DTEND:20231214T130000
SUMMARY:Research & Grand Rounds: KU Alzheimer's Disease Research Center: A Case Study of Translational Research Impact & Direction
LOCATION:Virtual
DESCRIPTION:KU Alzheimer&rsquo;s Disease Research Center: A Case Study of Translational Research Impact &amp; Direction

The KU Alzheimer&rsquo;s Disease Research Center is one of only 33 centers nationally designated by the National Institute on Aging. Offering direct care, research studies and strategies to support brain health in the community and the region, this center exemplifies translational research in action. Join a panel of the Center&rsquo;s team members for a look at the impacts of this work and the direction it is headed in the future. Panelists will be Jaime Perales Puchalt, Ph.D., MPH; Jill Morris, Ph.D; Becky Bothwell, MS, CCRP; Jeff Burns, MD, MS; and Matt Taylor, Ph.D., RD, LD.

Join here.

PRIORITY:3
END:VEVENT
END:VCALENDAR
