BEGIN:VCALENDAR
VERSION:2.0
PRODID:stackoverflow.com
CALSCALE:GREGORIAN
METHOD:PUBLISH
BEGIN:VTIMEZONE
TZID:America/Chicago
BEGIN:STANDARD
DTSTART:20071104T020000
TZOFFSETFROM:-0500
TZOFFSETTO:-0600
TZNAME:CST
END:STANDARD
BEGIN:DAYLIGHT
DTSTART:20070311T020000
TZOFFSETFROM:-0600
TZOFFSETTO:-0500
TZNAME:CDT
END:DAYLIGHT
END:VTIMEZONE
BEGIN:VEVENT
DTSTAMP:20260422T233000
UID:research-and-discovery-grand-rounds-greater-plains-collabora20230622T120000@structura.com
DTSTART:20230622T120000
DTEND:20230622T130000
SUMMARY:Research and Discovery Grand Rounds: Greater Plains Collaborative Reusable Observable University Study Environment (GROUSE)
LOCATION:Virtual 
DESCRIPTION:Greater Plains Collaborative Reusable Observable University Study Environment (GROUSE) is a Greater Plains Collaborative project to obtain health insurance claims from the Center for Medicare and Medicaid Services through the Research Data Assistance Center at the University of Minnesota. Join Russ Waitman, Ph.D., Professor and Vice Chair of Informatics, Department of Health Management and Informatics, and Director of the Center for Health Insights at the University of Missouri- Kansas City School of Medicine to learn more including augmentations, future use cases and practical examples of applications in progress.

PRIORITY:3
END:VEVENT
END:VCALENDAR
