BEGIN:VCALENDAR
VERSION:2.0
PRODID:stackoverflow.com
CALSCALE:GREGORIAN
METHOD:PUBLISH
BEGIN:VTIMEZONE
TZID:America/Chicago
BEGIN:STANDARD
DTSTART:20071104T020000
TZOFFSETFROM:-0500
TZOFFSETTO:-0600
TZNAME:CST
END:STANDARD
BEGIN:DAYLIGHT
DTSTART:20070311T020000
TZOFFSETFROM:-0600
TZOFFSETTO:-0500
TZNAME:CDT
END:DAYLIGHT
END:VTIMEZONE
BEGIN:VEVENT
DTSTAMP:20260422T220500
UID:kumc-internal-medicine-division-of-precision-medicine-li-fraumeni-syndrome-recent-insights-and-new-challenges20250416T120000@structura.com
DTSTART:20250416T120000
DTEND:20250416T130000
SUMMARY:KUMC Internal Medicine Division of Precision Medicine: Li-Fraumeni Syndrome: Recent Insights and New Challenges
LOCATION:Hybrid
DESCRIPTION:Sponsored by the KU Cancer Center.

Judy Garber, MD, MPH

Chair and Chief, Division of Cancer Genetics and Prevention

Dana-Farber Cancer Institute

Commemorating the establishment of the Heartlands Li-Fraumeni Syndrome Program with a partnership between KUMC and Children&rsquo;s Mercy Hospital Kansas City

12 p.m., Wednesday, April 16, 2025

School of Nursing Auditorium (G013)

or virtually via Zoom Link.

&nbsp;

PRIORITY:3
END:VEVENT
END:VCALENDAR
