BEGIN:VCALENDAR
VERSION:2.0
PRODID:stackoverflow.com
CALSCALE:GREGORIAN
METHOD:PUBLISH
BEGIN:VTIMEZONE
TZID:America/Chicago
BEGIN:STANDARD
DTSTART:20071104T020000
TZOFFSETFROM:-0500
TZOFFSETTO:-0600
TZNAME:CST
END:STANDARD
BEGIN:DAYLIGHT
DTSTART:20070311T020000
TZOFFSETFROM:-0600
TZOFFSETTO:-0500
TZNAME:CDT
END:DAYLIGHT
END:VTIMEZONE
BEGIN:VEVENT
DTSTAMP:20260423T195200
UID:ku-school-of-medicine-wichita-2025-research-forum20250417T080000@structura.com
DTSTART:20250417T080000
DTEND:20250417T120000
SUMMARY:KU School of Medicine - Wichita 2025 Research Forum
LOCATION:In-person
DESCRIPTION:The 2025 Research Forum, in its 33rd year, will be from 8 a.m. to noon&nbsp;Thursday, April 17,&nbsp;at the University of Kansas School of Medicine-Wichita, 1010 N. Kansas, Wichita, KS 67214. &nbsp;

The keynote speaker is&nbsp;Giulia Bonaminio, Ph.D., senior associate dean for medical education and research professor in Family Medicine &amp; Community Health at the University of Kansas Medical Center in Kansas City. Bonaminio will talk about the medical school&rsquo;s vision for research as well as the relevance and importance of students, residents, staff and faculty conducting research at the University of Kansas, especially in Wichita.

Take less than one minute to&nbsp;register&nbsp;for the 2025 Annual Research Forum!

PRIORITY:3
END:VEVENT
END:VCALENDAR
