BEGIN:VCALENDAR
VERSION:2.0
PRODID:stackoverflow.com
CALSCALE:GREGORIAN
METHOD:PUBLISH
BEGIN:VTIMEZONE
TZID:America/Chicago
BEGIN:STANDARD
DTSTART:20071104T020000
TZOFFSETFROM:-0500
TZOFFSETTO:-0600
TZNAME:CST
END:STANDARD
BEGIN:DAYLIGHT
DTSTART:20070311T020000
TZOFFSETFROM:-0600
TZOFFSETTO:-0500
TZNAME:CDT
END:DAYLIGHT
END:VTIMEZONE
BEGIN:VEVENT
DTSTAMP:20260423T115300
UID:innovations-in-quality-forum-role-of-data-in-the-evolution-o20230720T150000@structura.com
DTSTART:20230720T150000
DTEND:20230720T163000
SUMMARY:Innovations in Quality Forum: Role of Data in the Evolution of Healthcare
LOCATION:Zoom and Kaufman Foundation Conference Center
DESCRIPTION:Innovations in Quality Forums (formerly KC QVIC Forums) are&nbsp;being hosted in a hybrid environment in 2023.&nbsp;

Join us on July 20 as we discuss the Role of Data in the Evolution of Healthcare from 3 - 4:30 p.m.&nbsp;

Please register if you plan to attend.&nbsp;

PRIORITY:3
END:VEVENT
END:VCALENDAR
