BEGIN:VCALENDAR
VERSION:2.0
PRODID:stackoverflow.com
CALSCALE:GREGORIAN
METHOD:PUBLISH
BEGIN:VTIMEZONE
TZID:America/Chicago
BEGIN:STANDARD
DTSTART:20071104T020000
TZOFFSETFROM:-0500
TZOFFSETTO:-0600
TZNAME:CST
END:STANDARD
BEGIN:DAYLIGHT
DTSTART:20070311T020000
TZOFFSETFROM:-0600
TZOFFSETTO:-0500
TZNAME:CDT
END:DAYLIGHT
END:VTIMEZONE
BEGIN:VEVENT
DTSTAMP:20260425T120300
UID:heartland-association-of-research-professionals-harp20250926T073000@structura.com
DTSTART:20250926T073000
DTEND:20250926T163000
SUMMARY:Heartland Association of Research Professionals (HARP)
LOCATION:Children's Mercy Research Institute  
DESCRIPTION:28th Annual Research Conference

Education - Connection - Exchange Information and Ideas

PRIORITY:3
END:VEVENT
END:VCALENDAR
