BEGIN:VCALENDAR
VERSION:2.0
PRODID:stackoverflow.com
CALSCALE:GREGORIAN
METHOD:PUBLISH
BEGIN:VTIMEZONE
TZID:America/Chicago
BEGIN:STANDARD
DTSTART:20071104T020000
TZOFFSETFROM:-0500
TZOFFSETTO:-0600
TZNAME:CST
END:STANDARD
BEGIN:DAYLIGHT
DTSTART:20070311T020000
TZOFFSETFROM:-0600
TZOFFSETTO:-0500
TZNAME:CDT
END:DAYLIGHT
END:VTIMEZONE
BEGIN:VEVENT
DTSTAMP:20260422T231400
UID:global-genes-week-in-rare20240925T080000@structura.com
DTSTART:20240925T080000
DTEND:20240928T170000
SUMMARY:Global Genes Week in Rare
LOCATION:Loews Kansas City Hotel 
DESCRIPTION:Week in RARE combines the RARE Advocacy Summit and RARE Health Equity Forum, in addition to the RARE Champions of Hope awards ceremony and annual membership meetings for Global Advocacy Alliance and RARE Corporate Alliance. This is a unique opportunity to gather and engage rare disease advocates and leaders in the same space for&nbsp;conversation.

PRIORITY:3
END:VEVENT
END:VCALENDAR
