BEGIN:VCALENDAR
VERSION:2.0
PRODID:stackoverflow.com
CALSCALE:GREGORIAN
METHOD:PUBLISH
BEGIN:VTIMEZONE
TZID:America/Chicago
BEGIN:STANDARD
DTSTART:20071104T020000
TZOFFSETFROM:-0500
TZOFFSETTO:-0600
TZNAME:CST
END:STANDARD
BEGIN:DAYLIGHT
DTSTART:20070311T020000
TZOFFSETFROM:-0600
TZOFFSETTO:-0500
TZNAME:CDT
END:DAYLIGHT
END:VTIMEZONE
BEGIN:VEVENT
DTSTAMP:20260419T195000
UID:from-the-university-of-new-mexico-health-sciences-ctsa-health-experiences-research-1-0-hybrid-training20260518T090000@structura.com
DTSTART:20260518T090000
DTEND:20260520T170000
SUMMARY:From the University of New Mexico Health Sciences CTSA: Health Experiences Research 1.0 Hybrid Training
LOCATION:Hybrid
DESCRIPTION:Launched in 2014, HERN is the United States chapter of DIPEx International. It is a partnership among researchers at the University of New Mexico, Oregon Health and Science University, University of Wisconsin-Madison, Johns Hopkins University, Yale University, University of Utah School of Medicine, Veterans Administration and Mount Siani School of Medicine.&nbsp;

Interactive sessions methodology, project development and implementation; opportunities to present your research; and networking time with peers and senior researchers.&nbsp;

Cost: In person: Faculty/Staff: $550; Students/Residents: $275; Virtual: Faculty/Staff: $400; Students/Residents: $200

Cancellation: Full refunds by April 30, 2026 minus processing fee. Non-refundable after April 30, 2026.&nbsp;

PRIORITY:3
END:VEVENT
END:VCALENDAR
