BEGIN:VCALENDAR
VERSION:2.0
PRODID:stackoverflow.com
CALSCALE:GREGORIAN
METHOD:PUBLISH
BEGIN:VTIMEZONE
TZID:America/Chicago
BEGIN:STANDARD
DTSTART:20071104T020000
TZOFFSETFROM:-0500
TZOFFSETTO:-0600
TZNAME:CST
END:STANDARD
BEGIN:DAYLIGHT
DTSTART:20070311T020000
TZOFFSETFROM:-0600
TZOFFSETTO:-0500
TZNAME:CDT
END:DAYLIGHT
END:VTIMEZONE
BEGIN:VEVENT
DTSTAMP:20260423T202700
UID:digital-health-day-202620260820T110000@structura.com
DTSTART:20260820T110000
DTEND:20260820T180000
SUMMARY:Digital Health Day 2026
LOCATION:The Abbott | 1901 Cherry St., Kansas City, MO 64108
DESCRIPTION:As we commemorate a year marked by progress, let&rsquo;s come together to celebrate our vibrant ecosystem! Digital Health Day brings together founders, investors, partners, and the entire ecosystem to encourage collaboration and exploration.&nbsp;&nbsp;

Serving as the focal point of the digital health community, this event will feature regional speakers, significant updates, prestigious awards, and unparalleled networking opportunities.&nbsp;

Are you ready to:

Network with Titans: Gain insights on the future of healthcare and IT from industry leaders.

Discover Innovation: Uncover groundbreaking healthcare solutions poised to revolutionize the industry.

Celebrate Milestones: A year of turning on the lights for Digital Health KC.

Identify Upcoming Opportunities: Explore the next chapter of digital health evolution.

Honor Visionaries: Witness the prestigious awards ceremony honoring the brightest minds in digital health.

PRIORITY:3
END:VEVENT
END:VCALENDAR
