BEGIN:VCALENDAR
VERSION:2.0
PRODID:stackoverflow.com
CALSCALE:GREGORIAN
METHOD:PUBLISH
BEGIN:VTIMEZONE
TZID:America/Chicago
BEGIN:STANDARD
DTSTART:20071104T020000
TZOFFSETFROM:-0500
TZOFFSETTO:-0600
TZNAME:CST
END:STANDARD
BEGIN:DAYLIGHT
DTSTART:20070311T020000
TZOFFSETFROM:-0600
TZOFFSETTO:-0500
TZNAME:CDT
END:DAYLIGHT
END:VTIMEZONE
BEGIN:VEVENT
DTSTAMP:20260422T161000
UID:community-based-participatory-action-research-aed-elective20230404T120000@structura.com
DTSTART:20230404T120000
DTEND:20230404T130000
SUMMARY:Community-Based Participatory Action Research (AED Elective)
LOCATION:Zoom
DESCRIPTION:More information to come.&nbsp;

PRIORITY:3
END:VEVENT
END:VCALENDAR
