BEGIN:VCALENDAR
VERSION:2.0
PRODID:stackoverflow.com
CALSCALE:GREGORIAN
METHOD:PUBLISH
BEGIN:VTIMEZONE
TZID:America/Chicago
BEGIN:STANDARD
DTSTART:20071104T020000
TZOFFSETFROM:-0500
TZOFFSETTO:-0600
TZNAME:CST
END:STANDARD
BEGIN:DAYLIGHT
DTSTART:20070311T020000
TZOFFSETFROM:-0600
TZOFFSETTO:-0500
TZNAME:CDT
END:DAYLIGHT
END:VTIMEZONE
BEGIN:VEVENT
DTSTAMP:20260424T174000
UID:alzheimers-associations-dementia-conference20240612T080000@structura.com
DTSTART:20240612T080000
DTEND:20240612T163000
SUMMARY:Alzheimer’s Association’s Dementia Conference 
LOCATION:In-person and Virtual
DESCRIPTION:Location:&nbsp;Kansas Star Event Center &bull; Mulvane, KS

The Wichita Center for Clinical Research is attending the Alzheimer&rsquo;s Association&rsquo;s Dementia Conference on Wednesday, June 12th from 8:00-4:30pm. This conference provides a chance for caregivers, patients, and health care professionals to learn more about the education, services, and community resources available for patients with dementia and Alzheimer&rsquo;s disease. The CCR will have a booth set up to highlight clinical trials in Wichita and Kansas City, as well as to provide information about Frontiers and ReseachMatch to conference attendees.

PRIORITY:3
END:VEVENT
END:VCALENDAR
