BEGIN:VCALENDAR
VERSION:2.0
PRODID:stackoverflow.com
CALSCALE:GREGORIAN
METHOD:PUBLISH
BEGIN:VTIMEZONE
TZID:America/Chicago
BEGIN:STANDARD
DTSTART:20071104T020000
TZOFFSETFROM:-0500
TZOFFSETTO:-0600
TZNAME:CST
END:STANDARD
BEGIN:DAYLIGHT
DTSTART:20070311T020000
TZOFFSETFROM:-0600
TZOFFSETTO:-0500
TZNAME:CDT
END:DAYLIGHT
END:VTIMEZONE
BEGIN:VEVENT
DTSTAMP:20260423T013100
UID:2024-spring-mock-study-section20240419T090000@structura.com
DTSTART:20240419T090000
DTEND:20240419T120000
SUMMARY:2024 Spring Mock Study Section
LOCATION:Kansas City University Learning Lab
DESCRIPTION:Join us for our spring Mock Study Section.

PRIORITY:3
END:VEVENT
END:VCALENDAR
